BEGIN:VCALENDAR
VERSION:2.0
PRODID:-//Tukios.com/
BEGIN:VEVENT
UID:2a241bf3-5aef-4408-a17a-cf123403d4c4@www.sourekfuneralhome.com
DTSTAMP:20260424T213003Z
DTSTART:20260427T133000Z
DTEND:20260427T143000Z
SUMMARY:Visitation
DESCRIPTION:
URL:https://www.sourekfuneralhome.com/obituaries/pedro-avila
LOCATION: 5645 35th St  Cicero IL 60804
GEO:41.8287651;-87.7655432
END:VEVENT
END:VCALENDAR