BEGIN:VCALENDAR
VERSION:2.0
PRODID:-//Tukios.com/
BEGIN:VEVENT
UID:ecbeea83-25c4-4196-bd26-074ca9fd6f4b@www.sourekfuneralhome.com
DTSTAMP:20260424T213100Z
DTSTART:20260427T150000Z
DTEND:20260427T160000Z
SUMMARY:Mass
DESCRIPTION:
URL:https://www.sourekfuneralhome.com/obituaries/pedro-avila
LOCATION: 1510 S 49th Ct  Chicago IL 60804
GEO:41.8599301;-87.7484549
END:VEVENT
END:VCALENDAR